BEGIN:VCALENDAR
VERSION:2.0
PRODID:-//National Center on Restorative Justice - ECPv6.15.20//NONSGML v1.0//EN
CALSCALE:GREGORIAN
METHOD:PUBLISH
X-WR-CALNAME:National Center on Restorative Justice
X-ORIGINAL-URL:https://ncorj.org
X-WR-CALDESC:Events for National Center on Restorative Justice
REFRESH-INTERVAL;VALUE=DURATION:PT1H
X-Robots-Tag:noindex
X-PUBLISHED-TTL:PT1H
BEGIN:VTIMEZONE
TZID:America/New_York
BEGIN:DAYLIGHT
TZOFFSETFROM:-0500
TZOFFSETTO:-0400
TZNAME:EDT
DTSTART:20210314T070000
END:DAYLIGHT
BEGIN:STANDARD
TZOFFSETFROM:-0400
TZOFFSETTO:-0500
TZNAME:EST
DTSTART:20211107T060000
END:STANDARD
BEGIN:DAYLIGHT
TZOFFSETFROM:-0500
TZOFFSETTO:-0400
TZNAME:EDT
DTSTART:20220313T070000
END:DAYLIGHT
BEGIN:STANDARD
TZOFFSETFROM:-0400
TZOFFSETTO:-0500
TZNAME:EST
DTSTART:20221106T060000
END:STANDARD
BEGIN:DAYLIGHT
TZOFFSETFROM:-0500
TZOFFSETTO:-0400
TZNAME:EDT
DTSTART:20230312T070000
END:DAYLIGHT
BEGIN:STANDARD
TZOFFSETFROM:-0400
TZOFFSETTO:-0500
TZNAME:EST
DTSTART:20231105T060000
END:STANDARD
END:VTIMEZONE
BEGIN:VEVENT
DTSTART;TZID=America/New_York:20220611T080000
DTEND;TZID=America/New_York:20220611T170000
DTSTAMP:20260423T040005
CREATED:20220512T000600Z
LAST-MODIFIED:20220624T153227Z
UID:10000027-1654934400-1654966800@ncorj.org
SUMMARY:Restoring Humanity: A Speaker Showcase on Restorative Reintegration
DESCRIPTION:For the second event in the National Center on Restorative Justice institute series on Restorative Reintegration\, a group of courageous individuals came together for the first time to share their empowering messages of hope in finding success through restorative reintegration after incarceration. “Restoring Humanity” was the culmination of a 90-day speaker training experience delivered by Amplify Voices. This event was a partnership with the University of San Diego\, and the Catholic Diocese of San Diego. \n\n\n\nLearn more here.
URL:https://ncorj.org/event/restoring-humanity-a-speaker-showcase-on-restorative-reintegration/
END:VEVENT
END:VCALENDAR