BEGIN:VCALENDAR
VERSION:2.0
PRODID:-//National Center on Restorative Justice - ECPv6.15.20//NONSGML v1.0//EN
CALSCALE:GREGORIAN
METHOD:PUBLISH
X-ORIGINAL-URL:https://ncorj.org
X-WR-CALDESC:Events for National Center on Restorative Justice
REFRESH-INTERVAL;VALUE=DURATION:PT1H
X-Robots-Tag:noindex
X-PUBLISHED-TTL:PT1H
BEGIN:VTIMEZONE
TZID:America/New_York
BEGIN:DAYLIGHT
TZOFFSETFROM:-0500
TZOFFSETTO:-0400
TZNAME:EDT
DTSTART:20210314T070000
END:DAYLIGHT
BEGIN:STANDARD
TZOFFSETFROM:-0400
TZOFFSETTO:-0500
TZNAME:EST
DTSTART:20211107T060000
END:STANDARD
BEGIN:DAYLIGHT
TZOFFSETFROM:-0500
TZOFFSETTO:-0400
TZNAME:EDT
DTSTART:20220313T070000
END:DAYLIGHT
BEGIN:STANDARD
TZOFFSETFROM:-0400
TZOFFSETTO:-0500
TZNAME:EST
DTSTART:20221106T060000
END:STANDARD
BEGIN:DAYLIGHT
TZOFFSETFROM:-0500
TZOFFSETTO:-0400
TZNAME:EDT
DTSTART:20230312T070000
END:DAYLIGHT
BEGIN:STANDARD
TZOFFSETFROM:-0400
TZOFFSETTO:-0500
TZNAME:EST
DTSTART:20231105T060000
END:STANDARD
END:VTIMEZONE
BEGIN:VEVENT
DTSTART;TZID=America/New_York:20221018T080000
DTEND;TZID=America/New_York:20221116T170000
DTSTAMP:20260425T131238
CREATED:20221018T193500Z
LAST-MODIFIED:20221018T193501Z
UID:10000029-1666080000-1668618000@ncorj.org
SUMMARY:Call for 3-minute videos: What is Restorative Justice?
DESCRIPTION:“What is restorative justice?” This is an important question that can be difficult to answer. If we want restorative justice to take root in the criminal justice system and beyond\, it is essential that we find creative and concise ways to communicate restorative justice to the public. In recognition of this need and in honor of International Restorative Justice week\, the National Center on Restorative Justice (NCORJ) invites you to submit a 3-minute video that answers the question “What is restorative justice?” \n\n\n\nFeel free to take a creative approach and integrate art\, poetry\, symbolism\, metaphors\, or anything that sparks your imagination that you think would help to achieve a broader understanding of the philosophy and practice of restorative justice. The sky is the limit (with a hard stop at 3-minutes)! \n\n\n\nDon’t feel that your video needs to be a final\, polished product. This invitation is open to anyone with any level of technological proficiency and prior videography experience. Your submission can be as simple as three minutes of dialogue recorded on a cell phone camera. \n\n\n\nSubmissions are due on November 16\, 2022. Find out more: https://www.vermontlaw.edu/NCORJvideo
URL:https://ncorj.org/event/call-for-3-minute-videos-what-is-restorative-justice/
ATTACH;FMTTYPE=image/png:https://ncorj.org/wp-content/uploads/2022/10/Call-for-3-Minute-Videos-1.png
END:VEVENT
BEGIN:VEVENT
DTSTART;TZID=America/New_York:20221103T080000
DTEND;TZID=America/New_York:20221103T170000
DTSTAMP:20260425T131238
CREATED:20221024T001000Z
LAST-MODIFIED:20220718T232602Z
UID:10000031-1667462400-1667494800@ncorj.org
SUMMARY:Center for Artistic Activism Workshop
DESCRIPTION:As part of the leadup to the debut of Reimagining Justice\, the National Center on Restorative Justice hosted a two-part workshop with the Center for Artistic Activism\, focused on how to advance restorative justice through artistic means. \n\n\n\nYou can watch videos of the workshop here.
URL:https://ncorj.org/event/center-for-artistic-activism-workshop/2022-11-03/
END:VEVENT
BEGIN:VEVENT
DTSTART;TZID=America/New_York:20221110T080000
DTEND;TZID=America/New_York:20221110T170000
DTSTAMP:20260425T131238
CREATED:20221024T001000Z
LAST-MODIFIED:20220718T232602Z
UID:10000032-1668067200-1668099600@ncorj.org
SUMMARY:Center for Artistic Activism Workshop
DESCRIPTION:As part of the leadup to the debut of Reimagining Justice\, the National Center on Restorative Justice hosted a two-part workshop with the Center for Artistic Activism\, focused on how to advance restorative justice through artistic means. \n\n\n\nYou can watch videos of the workshop here.
URL:https://ncorj.org/event/center-for-artistic-activism-workshop/2022-11-10/
END:VEVENT
BEGIN:VEVENT
DTSTART;TZID=America/New_York:20221116T150000
DTEND;TZID=America/New_York:20221116T163000
DTSTAMP:20260425T131238
CREATED:20221018T194008Z
LAST-MODIFIED:20230127T195047Z
UID:10000030-1668610800-1668616200@ncorj.org
SUMMARY:Webinar: Restorative Justice in the Criminal Legal System
DESCRIPTION:Do you ever wonder if there is another way to repair harm and think about accountability within our criminal legal system? \n\n\n\nIn honor of International Restorative Justice Week\, the National Center on Restorative Justice will offer a 90-minute webinar on restorative justice in the criminal legal system. The webinar is intended for justice system actors and others looking to learn more about restorative justice approaches and how to incorporate them into the justice system. Panelists will share how they implement restorative justice practices\, the evidence of effectiveness and impact on the carceral system\, and any challenges experienced during the implementation process.
URL:https://ncorj.org/event/webinar-restorative-justice-in-the-criminal-legal-system/
ATTACH;FMTTYPE=image/jpeg:https://ncorj.org/wp-content/uploads/2022/10/Webinar_BJA_Justice-Week.jpg
END:VEVENT
END:VCALENDAR